BEGIN:VCALENDAR
VERSION:2.0
PRODID:brandt-mdl.de
METHOD:PUBLISH
BEGIN:VTIMEZONE
TZID:Europe/Berlin
X-LIC-LOCATION:Europe/Berlin
BEGIN:DAYLIGHT
TZOFFSETFROM:+0100
TZOFFSETTO:+0200
TZNAME:CEST
DTSTART:19700329T020000
RRULE:FREQ=YEARLY;INTERVAL=1;BYDAY=-1SU;BYMONTH=3
END:DAYLIGHT
BEGIN:STANDARD
TZOFFSETFROM:+0200
TZOFFSETTO:+0100
TZNAME:CET
DTSTART:19701025T030000
RRULE:FREQ=YEARLY;INTERVAL=1;BYDAY=-1SU;BYMONTH=10
END:STANDARD
END:VTIMEZONE
BEGIN:VEVENT
UID:1182979a5955eae292b394dfa379e5fc@brandt-mdl.de
URL;VALUE=URI:https://brandt-mdl.de/termine/diskussionsabend-zivilschutz-
 und-innere-sicherheit/
LOCATION:Heinrich-Osterwold-Halle, Elbstr. 145a, Lauenburg/Elbe
SUMMARY:Diskussionsabend „Zivilschutz & Innere Sicherheit“
DESCRIPTION;ALTREP="data:text/html,%0A%3Cp%3EDer%20Schutz%20unserer%20Inf
 rastruktur%20wird%20angesichts%20zunehmender%20Bedrohungen%20immer%20wich
 tiger.%20Der%20mehrt%C3%A4gige%20Stromausfall%20in%20Berlin%20zu%20Beginn
 %20des%20Jahres%2C%20Drohnen%C3%BCberfl%C3%BCge%20auf%20Flugh%C3%A4fen%2C
 %20aber%20auch%20Hochwasserereignisse%20und%20Waldbr%C3%A4nde%20zeigen%2C
 %20dass%20wir%20uns%20auf%20neue%20Aufgaben%20beim%20Bev%C3%B6lkerungs-%2
 0und%20Zivilschutz%20einstellen%20m%C3%BCssen.%3C%2Fp%3E%0A%0A%0A%0A%3Cp%
 3EAus%20diesem%20Grund%20laden%20B%C3%BCndnis%2090%2FDie%20Gr%C3%BCnen%20
 Lauenburg%20und%20Oliver%20Brandt%20%28MdL%29%20zu%20einem%20Diskussionsa
 bend%20ein.%20Es%20diskutieren%3A%3C%2Fp%3E%0A%0A%0A%0A%3Cul%20class%3D%2
 2wp-block-list%22%3E%0A%3Cli%3E%3Cstrong%3EDr.%20Konstantin%20v.%20Notz%3
 C%2Fstrong%3E%2C%20stellv.%20Fraktionsvorsitzender%20der%20Gr%C3%BCnen%20
 Bundestagsfraktion%3C%2Fli%3E%0A%0A%0A%0A%3Cli%3E%3Cstrong%3ELandrat%20Dr
 .%20Christoph%20Mager%3C%2Fstrong%3E%2C%20Kreis%20Herzogtum%20Lauenburg%3
 C%2Fli%3E%0A%0A%0A%0A%3Cli%3E%3Cstrong%3EB%C3%BCrgermeister%20Thorben%20B
 rackmann%3C%2Fstrong%3E%2C%20Stadt%20Lauenburg%2FElbe%3C%2Fli%3E%0A%0A%0A
 %0A%3Cli%3E%3Cstrong%3EMaren%20Collatz%3C%2Fstrong%3E%2C%20Leiterin%20Reg
 ionalstelle%20L%C3%BCbeck%20THW%3C%2Fli%3E%0A%0A%0A%0A%3Cli%3E%3Cstrong%3
 EOliver%20Brandt%3C%2Fstrong%3E%2C%20Mitglied%20des%20Schleswig-Holsteini
 schen%20Landtags%2C%20Moderation.%3C%2Fli%3E%0A%3C%2Ful%3E%0A%0A%0A%0A%3C
 p%3ENach%20Eingangsstatements%20der%20Podiumsg%C3%A4ste%20schlie%C3%9Fen%
 20sich%20Diskussion%20und%20Fragen%20mit%20dem%20Publikum%20an.%3C%2Fp%3E
 %0A":Der Schutz unserer Infrastruktur wird angesichts zunehmender Bedrohu
 ngen immer wichtiger. Der mehrtägige Stromausfall in Berlin zu Beginn de
 s Jahres\, Drohnenüberflüge auf Flughäfen\, aber auch Hochwasserereign
 isse und Waldbrände zeigen\, dass wir uns auf neue Aufgaben beim Bevölk
 erungs- und Zivilschutz einstellen müssen.\n\nAus diesem Grund laden Bü
 ndnis 90/Die Grünen Lauenburg und Oliver Brandt (MdL) zu einem Diskussio
 nsabend ein. Es diskutieren:\n\nDr. Konstantin v. Notz\, stellv. Fraktion
 svorsitzender der Grünen Bundestagsfraktion\n\nLandrat Dr. Christoph Mag
 er\, Kreis Herzogtum Lauenburg\n\nBürgermeister Thorben Brackmann\, Stad
 t Lauenburg/Elbe\n\nMaren Collatz\, Leiterin Regionalstelle Lübeck THW\n
 \nOliver Brandt\, Mitglied des Schleswig-Holsteinischen Landtags\, Modera
 tion.\n\nNach Eingangsstatements der Podiumsgäste schließen sich Diskus
 sion und Fragen mit dem Publikum an.
CLASS:PUBLIC
DTSTART;TZID=Europe/Berlin:20260217T193000
DTEND;TZID=Europe/Berlin:20260217T210000
DTSTAMP:20260421T103025
END:VEVENT
END:VCALENDAR