BEGIN:VCALENDAR
VERSION:2.0
PRODID:brandt-mdl.de
METHOD:PUBLISH
BEGIN:VTIMEZONE
TZID:Europe/Berlin
X-LIC-LOCATION:Europe/Berlin
BEGIN:DAYLIGHT
TZOFFSETFROM:+0100
TZOFFSETTO:+0200
TZNAME:CEST
DTSTART:19700329T020000
RRULE:FREQ=YEARLY;INTERVAL=1;BYDAY=-1SU;BYMONTH=3
END:DAYLIGHT
BEGIN:STANDARD
TZOFFSETFROM:+0200
TZOFFSETTO:+0100
TZNAME:CET
DTSTART:19701025T030000
RRULE:FREQ=YEARLY;INTERVAL=1;BYDAY=-1SU;BYMONTH=10
END:STANDARD
END:VTIMEZONE
BEGIN:VEVENT
UID:9b2a3845e9f9add52e28758f5f3f7e71@brandt-mdl.de
URL;VALUE=URI:https://brandt-mdl.de/termine/eu-projekttag/
LOCATION:Gymnasium Schwarzenbek
SUMMARY:EU-Projekttag
DESCRIPTION;ALTREP="data:text/html,%0A%3Cp%3EGymnasiums%20Schwarzenbek%20
 Europaschule%3C%2Fp%3E%0A":Gymnasiums Schwarzenbek Europaschule
CLASS:PUBLIC
DTSTART;TZID=Europe/Berlin:20260615T120000
DTEND;TZID=Europe/Berlin:20260615T133000
DTSTAMP:20260423T100920
END:VEVENT
END:VCALENDAR