BEGIN:VCALENDAR
VERSION:2.0
PRODID:brandt-mdl.de
METHOD:PUBLISH
BEGIN:VTIMEZONE
TZID:Europe/Berlin
X-LIC-LOCATION:Europe/Berlin
BEGIN:DAYLIGHT
TZOFFSETFROM:+0100
TZOFFSETTO:+0200
TZNAME:CEST
DTSTART:19700329T020000
RRULE:FREQ=YEARLY;INTERVAL=1;BYDAY=-1SU;BYMONTH=3
END:DAYLIGHT
BEGIN:STANDARD
TZOFFSETFROM:+0200
TZOFFSETTO:+0100
TZNAME:CET
DTSTART:19701025T030000
RRULE:FREQ=YEARLY;INTERVAL=1;BYDAY=-1SU;BYMONTH=10
END:STANDARD
END:VTIMEZONE
BEGIN:VEVENT
UID:2ac7f5096fa1393621038055842f7946@brandt-mdl.de
URL;VALUE=URI:https://brandt-mdl.de/termine/tischlerei-lange/
LOCATION:
SUMMARY:Tischlerei Lange
DESCRIPTION;ALTREP="data:text/html,%0A%3Cp%3Ein%20B%C3%BCchen%20%3C%2Fp%3
 E%0A":in Büchen
CLASS:PUBLIC
DTSTART;TZID=Europe/Berlin:20250417T120000
DTEND;TZID=Europe/Berlin:20250417T140000
DTSTAMP:20260421T110402
END:VEVENT
END:VCALENDAR